BEGIN:VCALENDAR
VERSION:2.0
PRODID:-//Guerrilla Theatre Project - ECPv6.15.20//NONSGML v1.0//EN
CALSCALE:GREGORIAN
METHOD:PUBLISH
X-WR-CALNAME:Guerrilla Theatre Project
X-ORIGINAL-URL:https://guerrillatheatreproject.com
X-WR-CALDESC:Events for Guerrilla Theatre Project
REFRESH-INTERVAL;VALUE=DURATION:PT1H
X-Robots-Tag:noindex
X-PUBLISHED-TTL:PT1H
BEGIN:VTIMEZONE
TZID:America/New_York
BEGIN:DAYLIGHT
TZOFFSETFROM:-0500
TZOFFSETTO:-0400
TZNAME:EDT
DTSTART:20250309T070000
END:DAYLIGHT
BEGIN:STANDARD
TZOFFSETFROM:-0400
TZOFFSETTO:-0500
TZNAME:EST
DTSTART:20251102T060000
END:STANDARD
BEGIN:DAYLIGHT
TZOFFSETFROM:-0500
TZOFFSETTO:-0400
TZNAME:EDT
DTSTART:20260308T070000
END:DAYLIGHT
BEGIN:STANDARD
TZOFFSETFROM:-0400
TZOFFSETTO:-0500
TZNAME:EST
DTSTART:20261101T060000
END:STANDARD
BEGIN:DAYLIGHT
TZOFFSETFROM:-0500
TZOFFSETTO:-0400
TZNAME:EDT
DTSTART:20270314T070000
END:DAYLIGHT
BEGIN:STANDARD
TZOFFSETFROM:-0400
TZOFFSETTO:-0500
TZNAME:EST
DTSTART:20271107T060000
END:STANDARD
END:VTIMEZONE
BEGIN:VEVENT
DTSTART;TZID=America/New_York:20260424T190000
DTEND;TZID=America/New_York:20260424T210000
DTSTAMP:20260422T190212
CREATED:20260131T003434Z
LAST-MODIFIED:20260131T003434Z
UID:4894-1777057200-1777064400@guerrillatheatreproject.com
SUMMARY:Murder on the Orient Express
DESCRIPTION:A stage adaptation in which detective Hercule Poirot investigates a stabbing aboard the snow-stalled Orient Express\, uncovering a train full of suspicious passengers and hidden motives
URL:https://guerrillatheatreproject.com/event/murder-on-the-orient-express-8/
CATEGORIES:Performance
END:VEVENT
BEGIN:VEVENT
DTSTART;TZID=America/New_York:20260425T190000
DTEND;TZID=America/New_York:20260425T210000
DTSTAMP:20260422T190212
CREATED:20260131T003434Z
LAST-MODIFIED:20260131T003434Z
UID:4895-1777143600-1777150800@guerrillatheatreproject.com
SUMMARY:Murder on the Orient Express
DESCRIPTION:A stage adaptation in which detective Hercule Poirot investigates a stabbing aboard the snow-stalled Orient Express\, uncovering a train full of suspicious passengers and hidden motives
URL:https://guerrillatheatreproject.com/event/murder-on-the-orient-express-9/
CATEGORIES:Performance
END:VEVENT
BEGIN:VEVENT
DTSTART;TZID=America/New_York:20260426T140000
DTEND;TZID=America/New_York:20260426T160000
DTSTAMP:20260422T190212
CREATED:20260131T003434Z
LAST-MODIFIED:20260131T003434Z
UID:4896-1777212000-1777219200@guerrillatheatreproject.com
SUMMARY:Murder on the Orient Express
DESCRIPTION:A stage adaptation in which detective Hercule Poirot investigates a stabbing aboard the snow-stalled Orient Express\, uncovering a train full of suspicious passengers and hidden motives
URL:https://guerrillatheatreproject.com/event/murder-on-the-orient-express-10/
CATEGORIES:Performance
END:VEVENT
BEGIN:VEVENT
DTSTART;TZID=America/New_York:20260430T190000
DTEND;TZID=America/New_York:20260430T210000
DTSTAMP:20260422T190212
CREATED:20260131T003633Z
LAST-MODIFIED:20260131T003633Z
UID:4934-1777575600-1777582800@guerrillatheatreproject.com
SUMMARY:Big Fish
DESCRIPTION:A son tries to understand his charismatic father’s unbelievable life stories\, discovering the truth\, love\, and magic woven through the tall tales that shaped their family.
URL:https://guerrillatheatreproject.com/event/big-fish/
LOCATION:Struthers Library Theatre\, 302 W 3rd Ave\, Warren\, PA\, 16365\, United States
CATEGORIES:Performance
ORGANIZER;CN="Warren Players":MAILTO:Webmaster@warrenplayers.com
END:VEVENT
BEGIN:VEVENT
DTSTART;TZID=America/New_York:20260430T193000
DTEND;TZID=America/New_York:20260430T213000
DTSTAMP:20260422T190212
CREATED:20251229T025241Z
LAST-MODIFIED:20251229T025241Z
UID:4762-1777577400-1777584600@guerrillatheatreproject.com
SUMMARY:Belles: The Reunion
DESCRIPTION:The sequel to Belles\, in which six estranged sisters reconnect over a chaotic\, crisis-filled weekend – communicating only through a series of intertwining phone calls.
URL:https://guerrillatheatreproject.com/event/belles-the-reunion/
LOCATION:Washington Street Theatre\, 702 Washington St\, Olean\, NY\, 14760\, United States
CATEGORIES:Performance
END:VEVENT
BEGIN:VEVENT
DTSTART;TZID=America/New_York:20260501T190000
DTEND;TZID=America/New_York:20260501T210000
DTSTAMP:20260422T190212
CREATED:20260131T003633Z
LAST-MODIFIED:20260131T003633Z
UID:4935-1777662000-1777669200@guerrillatheatreproject.com
SUMMARY:Big Fish
DESCRIPTION:A son tries to understand his charismatic father’s unbelievable life stories\, discovering the truth\, love\, and magic woven through the tall tales that shaped their family.
URL:https://guerrillatheatreproject.com/event/big-fish-2/
LOCATION:Struthers Library Theatre\, 302 W 3rd Ave\, Warren\, PA\, 16365\, United States
CATEGORIES:Performance
ORGANIZER;CN="Warren Players":MAILTO:Webmaster@warrenplayers.com
END:VEVENT
BEGIN:VEVENT
DTSTART;TZID=America/New_York:20260501T190000
DTEND;TZID=America/New_York:20260501T213000
DTSTAMP:20260422T190212
CREATED:20251229T025256Z
LAST-MODIFIED:20251229T025256Z
UID:4764-1777662000-1777671000@guerrillatheatreproject.com
SUMMARY:Mean Girls
DESCRIPTION:Watch Cady Heron navigate the ruthless social hierarchy of an American high school after joining – and ultimately challenging – the powerful clique known as “the plastics.”
URL:https://guerrillatheatreproject.com/event/mean-girls-6/
LOCATION:Ray Evans Seneca Theater\, 10 Main Street\, Salamanca\, 14779\, United States
CATEGORIES:Performance
END:VEVENT
BEGIN:VEVENT
DTSTART;TZID=America/New_York:20260501T190000
DTEND;TZID=America/New_York:20260501T220000
DTSTAMP:20260422T190212
CREATED:20260131T003548Z
LAST-MODIFIED:20260131T003548Z
UID:4917-1777662000-1777672800@guerrillatheatreproject.com
SUMMARY:Auditions: Night at the Museum
DESCRIPTION:A 1940s-era evening of skits at the museum
URL:https://guerrillatheatreproject.com/event/auditions-night-at-the-museum-3/
CATEGORIES:Performance
END:VEVENT
BEGIN:VEVENT
DTSTART;TZID=America/New_York:20260501T193000
DTEND;TZID=America/New_York:20260501T213000
DTSTAMP:20260422T190212
CREATED:20251229T025241Z
LAST-MODIFIED:20251229T025241Z
UID:4763-1777663800-1777671000@guerrillatheatreproject.com
SUMMARY:Belles: The Reunion
DESCRIPTION:The sequel to Belles\, in which six estranged sisters reconnect over a chaotic\, crisis-filled weekend – communicating only through a series of intertwining phone calls.
URL:https://guerrillatheatreproject.com/event/belles-the-reunion-2/
LOCATION:Washington Street Theatre\, 702 Washington St\, Olean\, NY\, 14760\, United States
CATEGORIES:Performance
END:VEVENT
BEGIN:VEVENT
DTSTART;TZID=America/New_York:20260502T190000
DTEND;TZID=America/New_York:20260502T210000
DTSTAMP:20260422T190212
CREATED:20260131T003633Z
LAST-MODIFIED:20260131T003633Z
UID:4936-1777748400-1777755600@guerrillatheatreproject.com
SUMMARY:Big Fish
DESCRIPTION:A son tries to understand his charismatic father’s unbelievable life stories\, discovering the truth\, love\, and magic woven through the tall tales that shaped their family.
URL:https://guerrillatheatreproject.com/event/big-fish-3/
LOCATION:Struthers Library Theatre\, 302 W 3rd Ave\, Warren\, PA\, 16365\, United States
CATEGORIES:Performance
ORGANIZER;CN="Warren Players":MAILTO:Webmaster@warrenplayers.com
END:VEVENT
BEGIN:VEVENT
DTSTART;TZID=America/New_York:20260502T190000
DTEND;TZID=America/New_York:20260502T213000
DTSTAMP:20260422T190212
CREATED:20251229T025257Z
LAST-MODIFIED:20251229T025257Z
UID:4766-1777748400-1777757400@guerrillatheatreproject.com
SUMMARY:Mean Girls
DESCRIPTION:Watch Cady Heron navigate the ruthless social hierarchy of an American high school after joining – and ultimately challenging – the powerful clique known as “the plastics.”
URL:https://guerrillatheatreproject.com/event/mean-girls-7/
LOCATION:Ray Evans Seneca Theater\, 10 Main Street\, Salamanca\, 14779\, United States
CATEGORIES:Performance
END:VEVENT
BEGIN:VEVENT
DTSTART;TZID=America/New_York:20260502T193000
DTEND;TZID=America/New_York:20260502T213000
DTSTAMP:20260422T190212
CREATED:20251229T025256Z
LAST-MODIFIED:20251229T025256Z
UID:4765-1777750200-1777757400@guerrillatheatreproject.com
SUMMARY:Belles: The Reunion
DESCRIPTION:The sequel to Belles\, in which six estranged sisters reconnect over a chaotic\, crisis-filled weekend – communicating only through a series of intertwining phone calls.
URL:https://guerrillatheatreproject.com/event/belles-the-reunion-3/
LOCATION:Washington Street Theatre\, 702 Washington St\, Olean\, NY\, 14760\, United States
CATEGORIES:Performance
END:VEVENT
BEGIN:VEVENT
DTSTART;TZID=America/New_York:20260503T140000
DTEND;TZID=America/New_York:20260503T160000
DTSTAMP:20260422T190212
CREATED:20260131T003649Z
LAST-MODIFIED:20260131T003649Z
UID:4937-1777816800-1777824000@guerrillatheatreproject.com
SUMMARY:Big Fish
DESCRIPTION:A son tries to understand his charismatic father’s unbelievable life stories\, discovering the truth\, love\, and magic woven through the tall tales that shaped their family.
URL:https://guerrillatheatreproject.com/event/big-fish-4/
LOCATION:Struthers Library Theatre\, 302 W 3rd Ave\, Warren\, PA\, 16365\, United States
CATEGORIES:Performance
ORGANIZER;CN="Warren Players":MAILTO:Webmaster@warrenplayers.com
END:VEVENT
BEGIN:VEVENT
DTSTART;TZID=America/New_York:20260503T140000
DTEND;TZID=America/New_York:20260503T213000
DTSTAMP:20260422T190212
CREATED:20251229T025257Z
LAST-MODIFIED:20251229T025257Z
UID:4768-1777816800-1777843800@guerrillatheatreproject.com
SUMMARY:Mean Girls
DESCRIPTION:Watch Cady Heron navigate the ruthless social hierarchy of an American high school after joining – and ultimately challenging – the powerful clique known as “the plastics.”
URL:https://guerrillatheatreproject.com/event/mean-girls-8/
LOCATION:Ray Evans Seneca Theater\, 10 Main Street\, Salamanca\, 14779\, United States
CATEGORIES:Performance
END:VEVENT
BEGIN:VEVENT
DTSTART;TZID=America/New_York:20260503T143000
DTEND;TZID=America/New_York:20260503T163000
DTSTAMP:20260422T190212
CREATED:20251229T025257Z
LAST-MODIFIED:20251229T025257Z
UID:4767-1777818600-1777825800@guerrillatheatreproject.com
SUMMARY:Belles: The Reunion
DESCRIPTION:The sequel to Belles\, in which six estranged sisters reconnect over a chaotic\, crisis-filled weekend – communicating only through a series of intertwining phone calls.
URL:https://guerrillatheatreproject.com/event/belles-the-reunion-4/
LOCATION:Washington Street Theatre\, 702 Washington St\, Olean\, NY\, 14760\, United States
CATEGORIES:Performance
END:VEVENT
BEGIN:VEVENT
DTSTART;TZID=America/New_York:20260508T190000
DTEND;TZID=America/New_York:20260508T213000
DTSTAMP:20260422T190212
CREATED:20251229T025406Z
LAST-MODIFIED:20251229T025406Z
UID:4769-1778266800-1778275800@guerrillatheatreproject.com
SUMMARY:Mean Girls
DESCRIPTION:Watch Cady Heron navigate the ruthless social hierarchy of an American high school after joining – and ultimately challenging – the powerful clique known as “the plastics.”
URL:https://guerrillatheatreproject.com/event/mean-girls-9/
LOCATION:Ray Evans Seneca Theater\, 10 Main Street\, Salamanca\, 14779\, United States
CATEGORIES:Performance
END:VEVENT
BEGIN:VEVENT
DTSTART;TZID=America/New_York:20260509T190000
DTEND;TZID=America/New_York:20260509T213000
DTSTAMP:20260422T190212
CREATED:20251229T025406Z
LAST-MODIFIED:20251229T025406Z
UID:4770-1778353200-1778362200@guerrillatheatreproject.com
SUMMARY:Mean Girls
DESCRIPTION:Watch Cady Heron navigate the ruthless social hierarchy of an American high school after joining – and ultimately challenging – the powerful clique known as “the plastics.”
URL:https://guerrillatheatreproject.com/event/mean-girls-10/
LOCATION:Ray Evans Seneca Theater\, 10 Main Street\, Salamanca\, 14779\, United States
CATEGORIES:Performance
END:VEVENT
BEGIN:VEVENT
DTSTART;TZID=America/New_York:20260510T140000
DTEND;TZID=America/New_York:20260510T163000
DTSTAMP:20260422T190212
CREATED:20251229T025407Z
LAST-MODIFIED:20251229T025407Z
UID:4771-1778421600-1778430600@guerrillatheatreproject.com
SUMMARY:Mean Girls
DESCRIPTION:Watch Cady Heron navigate the ruthless social hierarchy of an American high school after joining – and ultimately challenging – the powerful clique known as “the plastics.”
URL:https://guerrillatheatreproject.com/event/mean-girls-11/
LOCATION:Ray Evans Seneca Theater\, 10 Main Street\, Salamanca\, 14779\, United States
CATEGORIES:Performance
END:VEVENT
BEGIN:VEVENT
DTSTART;TZID=America/New_York:20260514T190000
DTEND;TZID=America/New_York:20260514T213000
DTSTAMP:20260422T190212
CREATED:20251229T025407Z
LAST-MODIFIED:20251229T025407Z
UID:4772-1778785200-1778794200@guerrillatheatreproject.com
SUMMARY:Murder on the Orient Express
DESCRIPTION:A stage adaptation in which detective Hercule Poirot investigates a stabbing aboard the snow-stalled Orient Express\, uncovering a train full of suspicious passengers and hidden motives
URL:https://guerrillatheatreproject.com/event/murder-on-the-orient-express/
LOCATION:Olean Community Theatre\, 127 South Barry Street\, Olean\, 14760\, United States
CATEGORIES:Performance
ORGANIZER;CN="Olean Community Theatre":MAILTO:info@oleancommunitytheatre.com
END:VEVENT
BEGIN:VEVENT
DTSTART;TZID=America/New_York:20260515T190000
DTEND;TZID=America/New_York:20260515T213000
DTSTAMP:20260422T190212
CREATED:20251229T025407Z
LAST-MODIFIED:20251229T025407Z
UID:4773-1778871600-1778880600@guerrillatheatreproject.com
SUMMARY:Murder on the Orient Express
DESCRIPTION:A stage adaptation in which detective Hercule Poirot investigates a stabbing aboard the snow-stalled Orient Express\, uncovering a train full of suspicious passengers and hidden motives
URL:https://guerrillatheatreproject.com/event/murder-on-the-orient-express-2/
LOCATION:Olean Community Theatre\, 127 South Barry Street\, Olean\, 14760\, United States
CATEGORIES:Performance
ORGANIZER;CN="Olean Community Theatre":MAILTO:info@oleancommunitytheatre.com
END:VEVENT
BEGIN:VEVENT
DTSTART;TZID=America/New_York:20260516T190000
DTEND;TZID=America/New_York:20260516T213000
DTSTAMP:20260422T190212
CREATED:20251229T025422Z
LAST-MODIFIED:20251229T025422Z
UID:4774-1778958000-1778967000@guerrillatheatreproject.com
SUMMARY:Murder on the Orient Express
DESCRIPTION:A stage adaptation in which detective Hercule Poirot investigates a stabbing aboard the snow-stalled Orient Express\, uncovering a train full of suspicious passengers and hidden motives
URL:https://guerrillatheatreproject.com/event/murder-on-the-orient-express-3/
LOCATION:Olean Community Theatre\, 127 South Barry Street\, Olean\, 14760\, United States
CATEGORIES:Performance
ORGANIZER;CN="Olean Community Theatre":MAILTO:info@oleancommunitytheatre.com
END:VEVENT
BEGIN:VEVENT
DTSTART;TZID=America/New_York:20260517T140000
DTEND;TZID=America/New_York:20260517T163000
DTSTAMP:20260422T190212
CREATED:20251229T025422Z
LAST-MODIFIED:20251229T025422Z
UID:4775-1779026400-1779035400@guerrillatheatreproject.com
SUMMARY:Murder on the Orient Express
DESCRIPTION:A stage adaptation in which detective Hercule Poirot investigates a stabbing aboard the snow-stalled Orient Express\, uncovering a train full of suspicious passengers and hidden motives
URL:https://guerrillatheatreproject.com/event/murder-on-the-orient-express-4/
LOCATION:Olean Community Theatre\, 127 South Barry Street\, Olean\, 14760\, United States
CATEGORIES:Performance
ORGANIZER;CN="Olean Community Theatre":MAILTO:info@oleancommunitytheatre.com
END:VEVENT
BEGIN:VEVENT
DTSTART;TZID=America/New_York:20260522T073000
DTEND;TZID=America/New_York:20260522T093000
DTSTAMP:20260422T190212
CREATED:20260131T003549Z
LAST-MODIFIED:20260131T003549Z
UID:4921-1779435000-1779442200@guerrillatheatreproject.com
SUMMARY:Joseph and the Amazing Technicolor Dreamcoat
DESCRIPTION:A musical retelling of the biblical story of Joseph from the Book of Genesis\, following his journey from favored son to slave to powerful leader. Performed by the middle school class.
URL:https://guerrillatheatreproject.com/event/joseph-and-the-amazing-technicolor-dreamcoat/
LOCATION:Washington Street Theatre\, 702 Washington St\, Olean\, NY\, 14760\, United States
CATEGORIES:Performance
END:VEVENT
BEGIN:VEVENT
DTSTART;TZID=America/New_York:20260523T073000
DTEND;TZID=America/New_York:20260523T093000
DTSTAMP:20260422T190212
CREATED:20260131T003603Z
LAST-MODIFIED:20260131T003603Z
UID:4922-1779521400-1779528600@guerrillatheatreproject.com
SUMMARY:Joseph and the Amazing Technicolor Dreamcoat
DESCRIPTION:A musical retelling of the biblical story of Joseph from the Book of Genesis\, following his journey from favored son to slave to powerful leader. Performed by the middle school class.
URL:https://guerrillatheatreproject.com/event/joseph-and-the-amazing-technicolor-dreamcoat-2/
LOCATION:Washington Street Theatre\, 702 Washington St\, Olean\, NY\, 14760\, United States
CATEGORIES:Performance
END:VEVENT
BEGIN:VEVENT
DTSTART;TZID=America/New_York:20260612T190000
DTEND;TZID=America/New_York:20260612T210000
DTSTAMP:20260422T190212
CREATED:20260131T003457Z
LAST-MODIFIED:20260131T003457Z
UID:4897-1781290800-1781298000@guerrillatheatreproject.com
SUMMARY:Footloose
DESCRIPTION:A rebellious teen from Chicago shakes up a small rural town by challenging its ban on dancing\, inspiring the community to confront fear\, embrace joy\, and fight for its own freedom
URL:https://guerrillatheatreproject.com/event/footloose/
CATEGORIES:Performance
END:VEVENT
BEGIN:VEVENT
DTSTART;TZID=America/New_York:20260612T193000
DTEND;TZID=America/New_York:20260612T220000
DTSTAMP:20260422T190212
CREATED:20250418T191648Z
LAST-MODIFIED:20250418T191648Z
UID:4383-1781292600-1781301600@guerrillatheatreproject.com
SUMMARY:1776
DESCRIPTION:
URL:https://guerrillatheatreproject.com/event/1776/
CATEGORIES:Performance
ORGANIZER;CN="Bradford Little Theatre":MAILTO:BLTMAIL16701@gmail.com
END:VEVENT
BEGIN:VEVENT
DTSTART;TZID=America/New_York:20260613T190000
DTEND;TZID=America/New_York:20260613T210000
DTSTAMP:20260422T190212
CREATED:20260131T003459Z
LAST-MODIFIED:20260131T003459Z
UID:4898-1781377200-1781384400@guerrillatheatreproject.com
SUMMARY:Footloose
DESCRIPTION:A rebellious teen from Chicago shakes up a small rural town by challenging its ban on dancing\, inspiring the community to confront fear\, embrace joy\, and fight for its own freedom
URL:https://guerrillatheatreproject.com/event/footloose-2/
CATEGORIES:Performance
END:VEVENT
BEGIN:VEVENT
DTSTART;TZID=America/New_York:20260613T193000
DTEND;TZID=America/New_York:20260613T220000
DTSTAMP:20260422T190212
CREATED:20250418T191648Z
LAST-MODIFIED:20250418T191648Z
UID:4384-1781379000-1781388000@guerrillatheatreproject.com
SUMMARY:1776
DESCRIPTION:
URL:https://guerrillatheatreproject.com/event/1776-2/
CATEGORIES:Performance
ORGANIZER;CN="Bradford Little Theatre":MAILTO:BLTMAIL16701@gmail.com
END:VEVENT
BEGIN:VEVENT
DTSTART;TZID=America/New_York:20260614T140000
DTEND;TZID=America/New_York:20260614T160000
DTSTAMP:20260422T190212
CREATED:20260131T003459Z
LAST-MODIFIED:20260131T003459Z
UID:4899-1781445600-1781452800@guerrillatheatreproject.com
SUMMARY:Footloose
DESCRIPTION:A rebellious teen from Chicago shakes up a small rural town by challenging its ban on dancing\, inspiring the community to confront fear\, embrace joy\, and fight for its own freedom
URL:https://guerrillatheatreproject.com/event/footloose-3/
CATEGORIES:Performance
END:VEVENT
BEGIN:VEVENT
DTSTART;TZID=America/New_York:20260614T140000
DTEND;TZID=America/New_York:20260614T163000
DTSTAMP:20260422T190212
CREATED:20250418T191648Z
LAST-MODIFIED:20250418T191648Z
UID:4385-1781445600-1781454600@guerrillatheatreproject.com
SUMMARY:1776
DESCRIPTION:
URL:https://guerrillatheatreproject.com/event/1776-3/
CATEGORIES:Performance
ORGANIZER;CN="Bradford Little Theatre":MAILTO:BLTMAIL16701@gmail.com
END:VEVENT
END:VCALENDAR