BEGIN:VCALENDAR
VERSION:2.0
PRODID:-//Guerrilla Theatre Project - ECPv6.15.20//NONSGML v1.0//EN
CALSCALE:GREGORIAN
METHOD:PUBLISH
X-WR-CALNAME:Guerrilla Theatre Project
X-ORIGINAL-URL:https://guerrillatheatreproject.com
X-WR-CALDESC:Events for Guerrilla Theatre Project
REFRESH-INTERVAL;VALUE=DURATION:PT1H
X-Robots-Tag:noindex
X-PUBLISHED-TTL:PT1H
BEGIN:VTIMEZONE
TZID:America/New_York
BEGIN:DAYLIGHT
TZOFFSETFROM:-0500
TZOFFSETTO:-0400
TZNAME:EDT
DTSTART:20250309T070000
END:DAYLIGHT
BEGIN:STANDARD
TZOFFSETFROM:-0400
TZOFFSETTO:-0500
TZNAME:EST
DTSTART:20251102T060000
END:STANDARD
BEGIN:DAYLIGHT
TZOFFSETFROM:-0500
TZOFFSETTO:-0400
TZNAME:EDT
DTSTART:20260308T070000
END:DAYLIGHT
BEGIN:STANDARD
TZOFFSETFROM:-0400
TZOFFSETTO:-0500
TZNAME:EST
DTSTART:20261101T060000
END:STANDARD
BEGIN:DAYLIGHT
TZOFFSETFROM:-0500
TZOFFSETTO:-0400
TZNAME:EDT
DTSTART:20270314T070000
END:DAYLIGHT
BEGIN:STANDARD
TZOFFSETFROM:-0400
TZOFFSETTO:-0500
TZNAME:EST
DTSTART:20271107T060000
END:STANDARD
END:VTIMEZONE
BEGIN:VEVENT
DTSTART;TZID=America/New_York:20260328T190000
DTEND;TZID=America/New_York:20260328T213000
DTSTAMP:20260423T065833
CREATED:20251229T025241Z
LAST-MODIFIED:20251229T025241Z
UID:4759-1774724400-1774733400@guerrillatheatreproject.com
SUMMARY:The Foreigner
DESCRIPTION:A comedy about a painfully shy Englishman who pretends not to understand English while staying at a rural Georgia lodge\, only to discover secrets and become and unexpected hero.
URL:https://guerrillatheatreproject.com/event/the-foreigner-3/
LOCATION:Olean Community Theatre\, 127 South Barry Street\, Olean\, 14760\, United States
CATEGORIES:Performance
ORGANIZER;CN="Olean Community Theatre":MAILTO:info@oleancommunitytheatre.com
END:VEVENT
END:VCALENDAR