BEGIN:VCALENDAR
VERSION:2.0
PRODID:-//Guerrilla Theatre Project - ECPv6.15.20//NONSGML v1.0//EN
CALSCALE:GREGORIAN
METHOD:PUBLISH
X-ORIGINAL-URL:https://guerrillatheatreproject.com
X-WR-CALDESC:Events for Guerrilla Theatre Project
REFRESH-INTERVAL;VALUE=DURATION:PT1H
X-Robots-Tag:noindex
X-PUBLISHED-TTL:PT1H
BEGIN:VTIMEZONE
TZID:America/New_York
BEGIN:DAYLIGHT
TZOFFSETFROM:-0500
TZOFFSETTO:-0400
TZNAME:EDT
DTSTART:20250309T070000
END:DAYLIGHT
BEGIN:STANDARD
TZOFFSETFROM:-0400
TZOFFSETTO:-0500
TZNAME:EST
DTSTART:20251102T060000
END:STANDARD
BEGIN:DAYLIGHT
TZOFFSETFROM:-0500
TZOFFSETTO:-0400
TZNAME:EDT
DTSTART:20260308T070000
END:DAYLIGHT
BEGIN:STANDARD
TZOFFSETFROM:-0400
TZOFFSETTO:-0500
TZNAME:EST
DTSTART:20261101T060000
END:STANDARD
BEGIN:DAYLIGHT
TZOFFSETFROM:-0500
TZOFFSETTO:-0400
TZNAME:EDT
DTSTART:20270314T070000
END:DAYLIGHT
BEGIN:STANDARD
TZOFFSETFROM:-0400
TZOFFSETTO:-0500
TZNAME:EST
DTSTART:20271107T060000
END:STANDARD
END:VTIMEZONE
BEGIN:VEVENT
DTSTART;TZID=America/New_York:20260313T073000
DTEND;TZID=America/New_York:20260313T093000
DTSTAMP:20260424T044930
CREATED:20260131T003548Z
LAST-MODIFIED:20260131T003548Z
UID:4918-1773387000-1773394200@guerrillatheatreproject.com
SUMMARY:Anything Goes
DESCRIPTION:A mismatched group of passengers aboard an ocean liner get swept into a whirlwind of romantic mix-ups\, madcap schemes\, and dazzling tap numbers as they sail toward unexpected happy endings. Performed by the high school class.
URL:https://guerrillatheatreproject.com/event/anything-goes/
LOCATION:Washington Street Theatre\, 702 Washington St\, Olean\, NY\, 14760\, United States
CATEGORIES:Performance
END:VEVENT
BEGIN:VEVENT
DTSTART;TZID=America/New_York:20260313T190000
DTEND;TZID=America/New_York:20260313T210000
DTSTAMP:20260424T044930
CREATED:20260131T003603Z
LAST-MODIFIED:20260131T003603Z
UID:4923-1773428400-1773435600@guerrillatheatreproject.com
SUMMARY:Biloxi Blues
DESCRIPTION:Neil Simon’s classic military comedy\, full of laughs and heart\, starring a mix of JCC students and community members.
URL:https://guerrillatheatreproject.com/event/biloxi-blues/
CATEGORIES:Performance
END:VEVENT
END:VCALENDAR