BEGIN:VCALENDAR
VERSION:2.0
PRODID:-//Guerrilla Theatre Project - ECPv6.15.20//NONSGML v1.0//EN
CALSCALE:GREGORIAN
METHOD:PUBLISH
X-WR-CALNAME:Guerrilla Theatre Project
X-ORIGINAL-URL:https://guerrillatheatreproject.com
X-WR-CALDESC:Events for Guerrilla Theatre Project
REFRESH-INTERVAL;VALUE=DURATION:PT1H
X-Robots-Tag:noindex
X-PUBLISHED-TTL:PT1H
BEGIN:VTIMEZONE
TZID:America/New_York
BEGIN:DAYLIGHT
TZOFFSETFROM:-0500
TZOFFSETTO:-0400
TZNAME:EDT
DTSTART:20240310T070000
END:DAYLIGHT
BEGIN:STANDARD
TZOFFSETFROM:-0400
TZOFFSETTO:-0500
TZNAME:EST
DTSTART:20241103T060000
END:STANDARD
BEGIN:DAYLIGHT
TZOFFSETFROM:-0500
TZOFFSETTO:-0400
TZNAME:EDT
DTSTART:20250309T070000
END:DAYLIGHT
BEGIN:STANDARD
TZOFFSETFROM:-0400
TZOFFSETTO:-0500
TZNAME:EST
DTSTART:20251102T060000
END:STANDARD
BEGIN:DAYLIGHT
TZOFFSETFROM:-0500
TZOFFSETTO:-0400
TZNAME:EDT
DTSTART:20260308T070000
END:DAYLIGHT
BEGIN:STANDARD
TZOFFSETFROM:-0400
TZOFFSETTO:-0500
TZNAME:EST
DTSTART:20261101T060000
END:STANDARD
END:VTIMEZONE
BEGIN:VEVENT
DTSTART;TZID=America/New_York:20251107T193000
DTEND;TZID=America/New_York:20251107T220000
DTSTAMP:20260425T070432
CREATED:20250115T224108Z
LAST-MODIFIED:20250418T191348Z
UID:3873-1762543800-1762552800@guerrillatheatreproject.com
SUMMARY:Freaky Friday: The Musical
DESCRIPTION:Directed by Timothy Hollamby with special arrangement by Music Theatre International\, Olean Community Theatre’s presents Freaky Friday: The Musical\, a heartwarming and hilarious story of a mother and daughter who magically swap bodies and learn to see life from each other’s perspective.
URL:https://guerrillatheatreproject.com/event/freaky-friday-the-musical-5/
LOCATION:Olean Community Theatre\, 127 South Barry Street\, Olean\, 14760\, United States
CATEGORIES:Performance
ORGANIZER;CN="Olean Community Theatre":MAILTO:info@oleancommunitytheatre.com
END:VEVENT
BEGIN:VEVENT
DTSTART;TZID=America/New_York:20251107T193000
DTEND;TZID=America/New_York:20251107T220000
DTSTAMP:20260425T070432
CREATED:20250418T191502Z
LAST-MODIFIED:20250418T191502Z
UID:4375-1762543800-1762552800@guerrillatheatreproject.com
SUMMARY:The Wizard of Oz
DESCRIPTION:
URL:https://guerrillatheatreproject.com/event/the-wizard-of-oz/
CATEGORIES:Performance
ORGANIZER;CN="Bradford Little Theatre":MAILTO:BLTMAIL16701@gmail.com
END:VEVENT
END:VCALENDAR