BEGIN:VCALENDAR
VERSION:2.0
PRODID:-//Guerrilla Theatre Project - ECPv6.15.20//NONSGML v1.0//EN
CALSCALE:GREGORIAN
METHOD:PUBLISH
X-ORIGINAL-URL:https://guerrillatheatreproject.com
X-WR-CALDESC:Events for Guerrilla Theatre Project
REFRESH-INTERVAL;VALUE=DURATION:PT1H
X-Robots-Tag:noindex
X-PUBLISHED-TTL:PT1H
BEGIN:VTIMEZONE
TZID:America/New_York
BEGIN:DAYLIGHT
TZOFFSETFROM:-0500
TZOFFSETTO:-0400
TZNAME:EDT
DTSTART:20240310T070000
END:DAYLIGHT
BEGIN:STANDARD
TZOFFSETFROM:-0400
TZOFFSETTO:-0500
TZNAME:EST
DTSTART:20241103T060000
END:STANDARD
BEGIN:DAYLIGHT
TZOFFSETFROM:-0500
TZOFFSETTO:-0400
TZNAME:EDT
DTSTART:20250309T070000
END:DAYLIGHT
BEGIN:STANDARD
TZOFFSETFROM:-0400
TZOFFSETTO:-0500
TZNAME:EST
DTSTART:20251102T060000
END:STANDARD
BEGIN:DAYLIGHT
TZOFFSETFROM:-0500
TZOFFSETTO:-0400
TZNAME:EDT
DTSTART:20260308T070000
END:DAYLIGHT
BEGIN:STANDARD
TZOFFSETFROM:-0400
TZOFFSETTO:-0500
TZNAME:EST
DTSTART:20261101T060000
END:STANDARD
END:VTIMEZONE
BEGIN:VEVENT
DTSTART;TZID=America/New_York:20250911T193000
DTEND;TZID=America/New_York:20250911T213000
DTSTAMP:20260425T083050
CREATED:20250115T224138Z
LAST-MODIFIED:20250418T191250Z
UID:3881-1757619000-1757626200@guerrillatheatreproject.com
SUMMARY:The 39 Steps
DESCRIPTION:Directed by Tristan DeFiore\, The 39 Steps is a fast-paced\, hilarious spy thriller where four actors play dozens of roles in a whirlwind of mystery and comedy.
URL:https://guerrillatheatreproject.com/event/the-39-steps-3/
LOCATION:Olean Community Theatre\, 127 South Barry Street\, Olean\, 14760\, United States
CATEGORIES:Performance
ORGANIZER;CN="Olean Community Theatre":MAILTO:info@oleancommunitytheatre.com
END:VEVENT
BEGIN:VEVENT
DTSTART;TZID=America/New_York:20250912T193000
DTEND;TZID=America/New_York:20250912T213000
DTSTAMP:20260425T083050
CREATED:20250115T224153Z
LAST-MODIFIED:20250418T191250Z
UID:3882-1757705400-1757712600@guerrillatheatreproject.com
SUMMARY:The 39 Steps
DESCRIPTION:Directed by Tristan DeFiore\, The 39 Steps is a fast-paced\, hilarious spy thriller where four actors play dozens of roles in a whirlwind of mystery and comedy.
URL:https://guerrillatheatreproject.com/event/the-39-steps-4/
LOCATION:Olean Community Theatre\, 127 South Barry Street\, Olean\, 14760\, United States
CATEGORIES:Performance
ORGANIZER;CN="Olean Community Theatre":MAILTO:info@oleancommunitytheatre.com
END:VEVENT
BEGIN:VEVENT
DTSTART;TZID=America/New_York:20250913T193000
DTEND;TZID=America/New_York:20250913T213000
DTSTAMP:20260425T083050
CREATED:20250115T224153Z
LAST-MODIFIED:20250418T191250Z
UID:3883-1757791800-1757799000@guerrillatheatreproject.com
SUMMARY:The 39 Steps
DESCRIPTION:Directed by Tristan DeFiore\, The 39 Steps is a fast-paced\, hilarious spy thriller where four actors play dozens of roles in a whirlwind of mystery and comedy.
URL:https://guerrillatheatreproject.com/event/the-39-steps-5/
LOCATION:Olean Community Theatre\, 127 South Barry Street\, Olean\, 14760\, United States
CATEGORIES:Performance
ORGANIZER;CN="Olean Community Theatre":MAILTO:info@oleancommunitytheatre.com
END:VEVENT
BEGIN:VEVENT
DTSTART;TZID=America/New_York:20250914T140000
DTEND;TZID=America/New_York:20250914T160000
DTSTAMP:20260425T083050
CREATED:20250115T224153Z
LAST-MODIFIED:20250418T191250Z
UID:3884-1757858400-1757865600@guerrillatheatreproject.com
SUMMARY:The 39 Steps
DESCRIPTION:Directed by Tristan DeFiore\, The 39 Steps is a fast-paced\, hilarious spy thriller where four actors play dozens of roles in a whirlwind of mystery and comedy.
URL:https://guerrillatheatreproject.com/event/the-39-steps-6/
LOCATION:Olean Community Theatre\, 127 South Barry Street\, Olean\, 14760\, United States
CATEGORIES:Performance
ORGANIZER;CN="Olean Community Theatre":MAILTO:info@oleancommunitytheatre.com
END:VEVENT
BEGIN:VEVENT
DTSTART;TZID=America/New_York:20250919T190000
DTEND;TZID=America/New_York:20250919T210000
DTSTAMP:20260425T083050
CREATED:20250320T002500Z
LAST-MODIFIED:20250418T191251Z
UID:4246-1758308400-1758315600@guerrillatheatreproject.com
SUMMARY:The Carol Burnett Show
DESCRIPTION:
URL:https://guerrillatheatreproject.com/event/the-carol-burnett-show/
LOCATION:Grace United Church\, 289 N Main St\, Wellsville\, NY\, 14895\, United States
CATEGORIES:Performance
ORGANIZER;CN="Starlight Theatre Company":MAILTO:starlighttheatreco14895@gmail.com
END:VEVENT
BEGIN:VEVENT
DTSTART;TZID=America/New_York:20250920T190000
DTEND;TZID=America/New_York:20250920T210000
DTSTAMP:20260425T083050
CREATED:20250320T002501Z
LAST-MODIFIED:20250418T191348Z
UID:4247-1758394800-1758402000@guerrillatheatreproject.com
SUMMARY:The Carol Burnett Show
DESCRIPTION:
URL:https://guerrillatheatreproject.com/event/the-carol-burnett-show-2/
LOCATION:Grace United Church\, 289 N Main St\, Wellsville\, NY\, 14895\, United States
CATEGORIES:Performance
ORGANIZER;CN="Starlight Theatre Company":MAILTO:starlighttheatreco14895@gmail.com
END:VEVENT
BEGIN:VEVENT
DTSTART;TZID=America/New_York:20250920T193000
DTEND;TZID=America/New_York:20250920T210000
DTSTAMP:20260425T083050
CREATED:20250418T191348Z
LAST-MODIFIED:20250418T191348Z
UID:4373-1758396600-1758402000@guerrillatheatreproject.com
SUMMARY:Olean Community Humorists
DESCRIPTION:
URL:https://guerrillatheatreproject.com/event/olean-community-humorists-2/
LOCATION:Olean Community Theatre\, 127 South Barry Street\, Olean\, 14760\, United States
CATEGORIES:Performance
ORGANIZER;CN="Olean Community Theatre":MAILTO:info@oleancommunitytheatre.com
END:VEVENT
END:VCALENDAR